BEGIN:VCALENDAR
VERSION:2.0
PRODID:-//hacksw/handcal//NONSGML v1.0//EN
BEGIN:VEVENT
DTSTAMP:20260527T130000Z
DTSTART:20260527T130000Z
DTEND:20260527T150000Z
SUMMARY:Politischer Nachmittag mit Hendrik Streeck
END:VEVENT
END:VCALENDAR
