BEGIN:VCALENDAR
VERSION:2.0
PRODID:-//hacksw/handcal//NONSGML v1.0//EN
BEGIN:VEVENT
DTSTAMP:20260527T130000Z
DTSTART:20260527T130000Z
DTEND:20260527T150000Z
SUMMARY:Politischer Nachmittag mit Hendrik Streeck
END:VEVENT
BEGIN:VEVENT
DTSTAMP:20260618T120000Z
DTSTART:20260618T120000Z
DTEND:20260618T153000Z
SUMMARY:ÖPNV-Tag
END:VEVENT
BEGIN:VEVENT
DTSTAMP:20260702T130000Z
DTSTART:20260702T130000Z
DTEND:20260702T150000Z
SUMMARY:Neuwahlen des Kreisvorstandes der SenU-Bonn
END:VEVENT
END:VCALENDAR
